BEGIN:VCALENDAR
VERSION:2.0
PRODID:icalendar-ruby
CALSCALE:GREGORIAN
METHOD:PUBLISH
BEGIN:VEVENT
DTSTAMP:20260421T195043Z
UID:2-1111002@brownschapel.tithelysetup5.com
DTSTART:20260811T230000Z
DTEND:20260811T233000Z
CLASS:PUBLIC
CREATED:20260421T151412
DESCRIPTION:Call in every week:\nDial: 267-807-9598\nAccess Code: 297088406
 #
LAST-MODIFIED:20260421T151412
LOCATION:
SUMMARY:Weekly Prayer Call
URL;VALUE=URI:https://www.bcoconee.org/events/weekly-prayer-call/2026-08-11
ATTACH;FILENAME=pexels-neosiam-594452.jpg;FMTTYPE=image/jpeg:https://dq5pwp
 g1q8ru0.cloudfront.net/2022/03/18/17/29/28/435fe48a-f622-4976-81e7-4d34595
 be82d/pexels-neosiam-594452.jpg
END:VEVENT
END:VCALENDAR
