BEGIN:VCALENDAR
VERSION:2.0
PRODID:icalendar-ruby
CALSCALE:GREGORIAN
METHOD:PUBLISH
BEGIN:VEVENT
DTSTAMP:20260423T181259Z
UID:5-1119703@brownschapel.tithelysetup5.com
DTSTART:20261018T140000Z
DTEND:20261018T150000Z
CLASS:PUBLIC
CREATED:20260423T132113
DESCRIPTION:Sunday Worship
LAST-MODIFIED:20260423T132113
LOCATION:
SUMMARY:Sunday Worship
URL;VALUE=URI:https://www.bcoconee.org/events/sunday-worship/2026-10-18
END:VEVENT
END:VCALENDAR
