BEGIN:VCALENDAR
VERSION:2.0
PRODID:icalendar-ruby
CALSCALE:GREGORIAN
METHOD:PUBLISH
BEGIN:VEVENT
DTSTAMP:20260423T163618Z
UID:5-1118957@brownschapel.tithelysetup5.com
DTSTART:20261011T140000Z
DTEND:20261011T150000Z
CLASS:PUBLIC
CREATED:20260423T102628
DESCRIPTION:Sunday Worship
LAST-MODIFIED:20260423T102628
LOCATION:
SUMMARY:Sunday Worship
URL;VALUE=URI:https://www.bcoconee.org/events/sunday-worship/2026-10-11
END:VEVENT
END:VCALENDAR
