BEGIN:VCALENDAR
VERSION:2.0
PRODID:icalendar-ruby
CALSCALE:GREGORIAN
METHOD:PUBLISH
BEGIN:VEVENT
DTSTAMP:20260423T134311Z
UID:5-1118210@brownschapel.tithelysetup5.com
DTSTART:20260927T140000Z
DTEND:20260927T150000Z
CLASS:PUBLIC
CREATED:20260423T073242
DESCRIPTION:Sunday Worship
LAST-MODIFIED:20260423T073242
LOCATION:
SUMMARY:Sunday Worship
URL;VALUE=URI:https://www.bcoconee.org/events/sunday-worship/2026-09-27
END:VEVENT
END:VCALENDAR
