BEGIN:VCALENDAR
VERSION:2.0
PRODID:icalendar-ruby
CALSCALE:GREGORIAN
METHOD:PUBLISH
BEGIN:VEVENT
DTSTAMP:20260423T121452Z
UID:5-1118209@brownschapel.tithelysetup5.com
DTSTART:20260920T140000Z
DTEND:20260920T150000Z
CLASS:PUBLIC
CREATED:20260423T073242
DESCRIPTION:Sunday Worship
LAST-MODIFIED:20260423T073242
LOCATION:
SUMMARY:Sunday Worship
URL;VALUE=URI:https://www.bcoconee.org/events/sunday-worship/2026-09-20
END:VEVENT
END:VCALENDAR
