BEGIN:VCALENDAR
VERSION:2.0
PRODID:icalendar-ruby
CALSCALE:GREGORIAN
METHOD:PUBLISH
BEGIN:VEVENT
DTSTAMP:20260422T140748Z
UID:3-1113485@brownschapel.tithelysetup5.com
DTSTART:20261028T160000Z
DTEND:20261028T170000Z
CLASS:PUBLIC
CREATED:20260422T073205
DESCRIPTION:Join us for our weekly Bible Study at 12:00 pm every week. 
LAST-MODIFIED:20260422T073205
LOCATION:Sanctuary
SUMMARY:Noon Day Bible Study
URL;VALUE=URI:https://www.bcoconee.org/events/noon-day-bible-study/2026-10-
 28
ATTACH;FILENAME=pexels-oladimeji-ajegbile-2574619.jpg;FMTTYPE=image/jpeg:ht
 tps://dq5pwpg1q8ru0.cloudfront.net/2022/03/18/17/33/18/49457b48-c4b5-43a2-
 88a1-f887543c1135/pexels-oladimeji-ajegbile-2574619.jpg
END:VEVENT
END:VCALENDAR
